BEGIN:VCALENDAR
VERSION:2.0
PRODID:icalendar-ruby
CALSCALE:GREGORIAN
METHOD:PUBLISH
BEGIN:VEVENT
DTSTAMP:20260424T234416Z
UID:6-785712@pccabingdon.org
DTSTART:20261011T220000Z
DTEND:20261011T230000Z
CLASS:PUBLIC
CREATED:20260424T183229
DESCRIPTION:This is a time of fellowship\, fun\, and growing in the grace a
 nd knowledge of the Lord in a casual and interactive enviroment.
LAST-MODIFIED:20260424T183229
LOCATION:Providence Community Church - Fellowship Hall
SUMMARY:Sunday Night Insight!
URL;VALUE=URI:https://www.pccabingdon.org/events/sunday-night-insight/2026-
 10-11
ATTACH;FILENAME=Open bible with glasses.jpg;FMTTYPE=image/jpeg:https://dq5p
 wpg1q8ru0.cloudfront.net/2023/01/02/08/38/13/f3cca32a-fc0c-4e4a-908a-c283e
 f5786a3/Open%20bible%20with%20glasses.jpg
END:VEVENT
END:VCALENDAR
