BEGIN:VCALENDAR
VERSION:2.0
PRODID:icalendar-ruby
CALSCALE:GREGORIAN
METHOD:PUBLISH
BEGIN:VEVENT
DTSTAMP:20260422T224552Z
UID:10-778951@pccabingdon.org
DTSTART:20261004T143000Z
DTEND:20261004T155000Z
CLASS:PUBLIC
CREATED:20260422T155852
DESCRIPTION:Join us for a time of worship through song and the teaching of 
 God's Word.
LAST-MODIFIED:20260422T155852
LOCATION:Providence Community Church 
SUMMARY:Sunday Morning Worship
URL;VALUE=URI:https://www.pccabingdon.org/events/sunday-morning-worship--10
 /2026-10-04
ATTACH;FILENAME=Sunday morning.jpg;FMTTYPE=image/jpeg:https://dq5pwpg1q8ru0
 .cloudfront.net/2023/02/26/10/19/08/a86d2d31-1a97-42b2-9cb5-a6bbbbe64457/S
 unday%20morning.jpg
END:VEVENT
END:VCALENDAR
